

BEGIN:VCALENDAR
VERSION:2.0
PRODID:-//TYPO3/NONSGML TBS Event//EN
CALSCALE:GREGORIAN
METHOD:PUBLISH
BEGIN:VTIMEZONE
TZID:Europe/Berlin
BEGIN:DAYLIGHT
TZOFFSETFROM:+0100
TZOFFSETTO:+0200
TZNAME:CEST
DTSTART:19700329T020000
RRULE:FREQ=YEARLY;BYMONTH=3;BYDAY=-1SU
END:DAYLIGHT
BEGIN:STANDARD
TZOFFSETFROM:+0200
TZOFFSETTO:+0100
TZNAME:CET
DTSTART:19701025T030000
RRULE:FREQ=YEARLY;BYMONTH=10;BYDAY=-1SU
END:STANDARD
END:VTIMEZONE
BEGIN:VEVENT
UID:event-879@www.faire-mobilitaet.de
SUMMARY:***UPDATE*** Neuer Tarifvertrag Leiharbeit
DESCRIPTION:Das Seminar behandelt den am 1.1.2026 in Kraft getretenen neuen Tarifvertrag Leiharbeit und analysiert die Veränderungen gegenüber den beiden vorherigen Tarifverträgen. Dabei wird gemeinsam erarbeitet, welche konkreten Auswirkungen die Neuerungen für Ratsuchende haben.
LOCATION:online
URL:https://www.faire-mobilitaet.de/veranstaltungen/veranstaltung/update-neuer-tarifvertrag-leiharbeit/
DTSTART;TZID=Europe/Berlin:20260305T090000
DTEND;TZID=Europe/Berlin:20260305T123000
DTSTAMP:20260216T151647Z
END:VEVENT
END:VCALENDAR
